BEGIN:VCALENDAR
VERSION:2.0
PRODID:icalendar-ruby
CALSCALE:GREGORIAN
METHOD:PUBLISH
BEGIN:VEVENT
DTSTAMP:20260424T143352Z
UID:25-364875@hilldaleumc.org
DTSTART:20260812T230000Z
DTEND:20260813T000000Z
CLASS:PUBLIC
CREATED:20260424T072251
DESCRIPTION:Come join us as we open God’s Word together and discover how 
 Scripture speaks to our daily lives. Whether you are brand new to Bible st
 udy or have been reading for years\, there’s a place for you at the tabl
 e. Bring your questions\, your curiosity\, and your desire to grow in fait
 h—we’ll learn from one another as the Spirit leads us.
LAST-MODIFIED:20260424T072251
LOCATION:Pastor's Office
SUMMARY:Midweek Bible Study
URL;VALUE=URI:https://www.hilldaleumc.org/events/midweek-bible-study/2026-0
 8-12
ATTACH;FILENAME=Black-and-Orange-Aesthetic-Bible-Study-Instagram-Post-%28In
 stagram-Post-%2845%29%29.jpg;FMTTYPE=image/jpeg:https://dq5pwpg1q8ru0.clou
 dfront.net/2025/09/09/15/52/38/5862e1e6-4ce7-4be1-b893-34a42a6f9e02/Black-
 and-Orange-Aesthetic-Bible-Study-Instagram-Post-%2528Instagram-Post-%25284
 5%2529%2529.jpg
END:VEVENT
END:VCALENDAR
